BEGIN:VCALENDAR
VERSION:2.0
PRODID:-//Callesol.net - ECPv6.9.0//NONSGML v1.0//EN
CALSCALE:GREGORIAN
METHOD:PUBLISH
X-WR-CALNAME:Callesol.net
X-ORIGINAL-URL:https://www.callesol.net
X-WR-CALDESC:Évènements pour Callesol.net
REFRESH-INTERVAL;VALUE=DURATION:PT1H
X-Robots-Tag:noindex
X-PUBLISHED-TTL:PT1H
BEGIN:VTIMEZONE
TZID:Europe/Paris
BEGIN:DAYLIGHT
TZOFFSETFROM:+0100
TZOFFSETTO:+0200
TZNAME:CEST
DTSTART:20230326T010000
END:DAYLIGHT
BEGIN:STANDARD
TZOFFSETFROM:+0200
TZOFFSETTO:+0100
TZNAME:CET
DTSTART:20231029T010000
END:STANDARD
END:VTIMEZONE
BEGIN:VEVENT
DTSTART;TZID=Europe/Paris:20230326T100000
DTEND;TZID=Europe/Paris:20230326T180000
DTSTAMP:20260423T001613
CREATED:20230303T150225Z
LAST-MODIFIED:20230320T140046Z
UID:7587-1679824800-1679853600@www.callesol.net
SUMMARY:La Bulle - S'aligner
DESCRIPTION:C’est le retour de la Bulle\, la journée bien-être pour les femmes\, le dimanche 26 mars\, sur le thème « S’aligner ». \nMélissa et Nadège te proposent de passer une journée comme dans une Bulle. Elle sera ponctuée de six ateliers qui te permettront d’avoir des pistes pour mettre plus de ce que tu es dans ce que tu fais. \nLe programme de cette édition de la Bulle – S’aligner :\n10h : accueil\n10h30-11h15 : yoga nidra avec Caroline\n11h30-12h15 : coaching avec Nadège\n12h15-13h45 : déjeuner\n13h45-14h30 : présence à soi et aux autres avec Maud\n14h45-15h30 : yoga kundalini avec Annabel\n15h45-16h30 : naturopathie – huiles essentielles avec Isabelle\n17h-17h45 : auto-massage avec Isabelle \nS’inscrire :\nTarif : 75 euros\nS’inscrire : Lien d’inscription. \nLe détail :\nCaroline – Yoga Nidra :\nCaroline découvre le yoga nidra\, après 10 ans à enseigner le yoga et à créer des séjours transformants dans la nature. Elle sent alors comme une évidence à transmettre cette pratique qui induit un état de relaxation très profond et qui permet d’explorer avec curiosité et détente\, l’intérieur de notre être et ses différentes dimensions.\nCoach de formation\, Caroline accompagne les personnes pour leur permettre de se transformer en profondeur et de vivre une vie qui leur ressemble et les fait vibrer. Pour cela\, elle compose avec l’intelligence du corps et la puissance des visualisations pour impulser des actions alignées avec le cœur. Le yoga nidra constitue\, à ce titre\, un outil puissant.\nDans cet atelier\, nous plongeons à l’intérieur de nous pour écouter notre guide intérieur\, faire émerger un souhait profond du cœur et se détendre pour laisser la vie œuvrer à travers nous. Focus et détente pour s’aligner au travers du yoga nidra\, de postures simples et du chant de mantras. \nNadège – Coaching :\nNadège est formatrice en danses latines et sport. Elle est la fondatrice et la co-directrice de Callesol. Elle est également coach en développement personnel et professionnel.\nNadège animera en atelier de coaching\, pour t’aider à te reconnecter à tes besoins et à la manière dont tu peux y répondre pour t’aligner. \nMaud – Présence à soi et aux autres :\nComédienne depuis 20 ans\, Maud Ivanoff rejoint en 2022 l’organisme de formation Ivolve pour développer sa pratique de facilitatrice de Théâtre forum et d’accompagnante (supervision\, coaching). Elle est passionnée par la gestion des émotions\, la fluidification des relations. Elle aime proposer des espaces dans lesquels les individus et les groupes peuvent s’exprimer librement\, grandir et s’épanouir. Sa pratique s’inspire des techniques de comédienne\, de la spirale dynamique de Clare Graves\,\, du Théâtre Forum d’Augusto Boal et de la communication non violente (CNV) et du coaching (PNL).\nMaud vous propose un atelier où vous expérimenterez différentes façons d’être présentes ici et maintenant : présence à soi dans son corps et sa voix\, présence aux autres\, présence dans l’espace .\nA travers des jeux en solo et en groupe\, sentir et exprimer ce qui est présent en soi – émotions\, énergie\, envies. \nAnnabel – Yoga Kundalini :\nEn quête de sens et souhaitant remettre l’humain au centre\, Annabel se reconvertit dans le coaching\, après une carrière en entreprise. Elle est également enseignante de yoga kundalini\, praticienne Reiki\, et elle crée des voyages inspirants au Sri Lanka\, son pays de cœur.\nElle propose des expériences et des accompagnements alliant douceur et puissance\, simplicité et profondeur\, pour vous permettre de recontacter votre véritable nature et vous mettre en chemin vers vos rêves.\nSon atelier : une pratique issue du yoga kundalini\, combinant respiration\, postures et mantra. Annabel est convaincue que la transformation passe par le corps. Elle vous guidera pour tourner votre regard vers l’intérieur\, afin d’aligner le corps\, le cœur et l’esprit. \nIsabelle – Naturopathie et auto-massage :\nConvaincue que le bien-être ne se limite pas qu’au corps physique\, que l’hygiène de vie n’est pas qu’une assiette équilibrée\, Isabelle a choisi le métier de naturopathe qui accompagne la personne dans sa globalité.\nLa boite à outils du naturopathe est composée de plusieurs techniques pour vous accompagner sur l’alimentation\, l’exercice physique\, la gestion des émotions\,du stress et du sommeil.\nAteliers huiles essentielles :\nPrésentation de quelques huiles essentielles et de leur pouvoir sur nos organismes \,nos énergies et nos émotions\nNous verrons les différentes utilisations et les précautions à prendre (chacune repartira avec un stick olfactif !)\nPour l’auto massage:\nDepuis le crâne jusqu’à la voûte plantaire nous ferons un tour d’horizon des points intéressants à stimuler en fonction des besoins\, soit pour l’apaisement du système respiratoire \,cardiaque et nerveux en cas d émotions débordantes\, soit pour pour retrouver un élan\, et de l’énergie. \n \n  \n 
URL:https://www.callesol.net/evenement/la-bulle-saligner/
LOCATION:Callesol\, 14 rue Remy Dumoncel\, Paris\, 75014\, France
ATTACH;FMTTYPE=image/jpeg:https://www.callesol.net/wp-content/uploads/2023/03/bulle-s-aligner.jpeg
END:VEVENT
END:VCALENDAR