BEGIN:VCALENDAR
VERSION:2.0
PRODID:-//Callesol.net - ECPv6.9.0//NONSGML v1.0//EN
CALSCALE:GREGORIAN
METHOD:PUBLISH
X-WR-CALNAME:Callesol.net
X-ORIGINAL-URL:https://www.callesol.net
X-WR-CALDESC:Évènements pour Callesol.net
REFRESH-INTERVAL;VALUE=DURATION:PT1H
X-Robots-Tag:noindex
X-PUBLISHED-TTL:PT1H
BEGIN:VTIMEZONE
TZID:Europe/Paris
BEGIN:DAYLIGHT
TZOFFSETFROM:+0100
TZOFFSETTO:+0200
TZNAME:CEST
DTSTART:20240331T010000
END:DAYLIGHT
BEGIN:STANDARD
TZOFFSETFROM:+0200
TZOFFSETTO:+0100
TZNAME:CET
DTSTART:20241027T010000
END:STANDARD
END:VTIMEZONE
BEGIN:VEVENT
DTSTART;TZID=Europe/Paris:20240224T140000
DTEND;TZID=Europe/Paris:20240224T173000
DTSTAMP:20260421T123317
CREATED:20240205T102225Z
LAST-MODIFIED:20240205T102334Z
UID:7798-1708783200-1708795800@www.callesol.net
SUMMARY:Stages avec Jonar : suelta\, salsa style\, son cubain le 24 février
DESCRIPTION:Nous accueillons de nouveau Jonar Gonzalez pour un après-midi de stages le samedi 24 février 2024.\nSpécialiste de casino (salsa cubaine) et du son cubain\, ancien danseur de la troupe d’exception Casino.com. \nVoici le programme de cet après-midi de danse :\n14h-15h : suelta (salsa cubaine en solo) à partir du niveau inter\n15h15-16h15 : salsa cubaine style à partir du niveau inter\n16h30-17h30 : son cubain à partir du niveau inter \nLes tarifs :\n– stage à l’unité : 20 euros\n– trois stages : 55 euros\nInscriptions sur l’application BSport
URL:https://www.callesol.net/evenement/stages-avec-jonar-suelta-salsa-style-son-cubain-le-24-fevrier/
LOCATION:Callesol\, 14 rue Remy Dumoncel\, Paris\, 75014\, France
CATEGORIES:Danse
ATTACH;FMTTYPE=image/png:https://www.callesol.net/wp-content/uploads/2024/02/stages-jonar-2024.png
END:VEVENT
END:VCALENDAR